BEGIN:VCALENDAR
VERSION:2.0
PRODID:-//The Alexa Trust - ECPv6.15.20//NONSGML v1.0//EN
CALSCALE:GREGORIAN
METHOD:PUBLISH
X-ORIGINAL-URL:https://thealexatrust.org
X-WR-CALDESC:Events for The Alexa Trust
REFRESH-INTERVAL;VALUE=DURATION:PT1H
X-Robots-Tag:noindex
X-PUBLISHED-TTL:PT1H
BEGIN:VTIMEZONE
TZID:Europe/London
BEGIN:DAYLIGHT
TZOFFSETFROM:+0000
TZOFFSETTO:+0100
TZNAME:BST
DTSTART:20170326T010000
END:DAYLIGHT
BEGIN:STANDARD
TZOFFSETFROM:+0100
TZOFFSETTO:+0000
TZNAME:GMT
DTSTART:20171029T010000
END:STANDARD
BEGIN:DAYLIGHT
TZOFFSETFROM:+0000
TZOFFSETTO:+0100
TZNAME:BST
DTSTART:20180325T010000
END:DAYLIGHT
BEGIN:STANDARD
TZOFFSETFROM:+0100
TZOFFSETTO:+0000
TZNAME:GMT
DTSTART:20181028T010000
END:STANDARD
BEGIN:DAYLIGHT
TZOFFSETFROM:+0000
TZOFFSETTO:+0100
TZNAME:BST
DTSTART:20190331T010000
END:DAYLIGHT
BEGIN:STANDARD
TZOFFSETFROM:+0100
TZOFFSETTO:+0000
TZNAME:GMT
DTSTART:20191027T010000
END:STANDARD
END:VTIMEZONE
BEGIN:VEVENT
DTSTART;VALUE=DATE:20180408
DTEND;VALUE=DATE:20180409
DTSTAMP:20260424T225513
CREATED:20180129T110805Z
LAST-MODIFIED:20180129T110805Z
UID:932-1523145600-1523231999@thealexatrust.org
SUMMARY:TAKE THE PLUNGE FOR THE ALEXA TRUST - Abseil 2018
DESCRIPTION:Adrenaline seekers are invited to take part in a thrilling abseil challenge in Kent being staged to support The Alexa Trust.  The abseil is being organised by the KM Charity Team and will be held on Sunday\, April 8th \, at Thomas Place in Maidstone. \nSimon Dolby from the KM Charity Team urged people to take the challenge to support The Alexa Trust. \n“This is a great opportunity for people to test their sense of adventure while money for this excellent cause.” \nSpecialists will erect two abseil ropes from the roof of the building to the ground\, enabling brave participants to abseil down under the watchful instruction of the professionals whilst being cheered on by well-wishers and friends. \nParticipants should aim to raise a minimum of £75 in sponsorship. Seventy per cent of sponsorship raised goes to (insert your charity or cause name here) and 30 per cent will go to the children’s road safety department at the KM Charity Team. \nTo book your place\, visit the website www.kmcharitychallenge.co.uk \nHow to raise money online! CLICK HERE \nPROMOTIONAL CODE:  MAID18
URL:https://thealexatrust.org/event/abseil/
CATEGORIES:Abseil
ATTACH;FMTTYPE=image/jpeg:https://thealexatrust.org/wp-content/uploads/2018/01/Abseil-logo.jpg
END:VEVENT
END:VCALENDAR